BEGIN:VCALENDAR
VERSION:2.0
METHOD:PUBLISH
BEGIN:VEVENT
DTSTART:20230415T123000Z
DTEND:20230415T140000Z
LOCATION:Maison de l'Archéologie (50.29009689999999,2.7366062)
TRANSP: OPAQUE
SEQUENCE:0
UID:
DTSTAMP:20260420T090051Z
SUMMARY:Atelier pour les 12-15 ans « Moi et les autres, des préjugés au racisme »
DESCRIPTION:
PRIORITY:1
CLASS:PUBLIC
BEGIN:VALARM
TRIGGER:-PT10080M
ACTION:DISPLAY
DESCRIPTION:Reminder
END:VALARM
END:VEVENT
END:VCALENDAR
