BEGIN:VCALENDAR
VERSION:2.0
METHOD:PUBLISH
BEGIN:VEVENT
DTSTART:20240606T160000Z
DTEND:20240606T173000Z
LOCATION:
TRANSP: OPAQUE
SEQUENCE:0
UID:
DTSTAMP:20260419T133418Z
SUMMARY:Café-archéo :  « Assurer les funérailles : La confrérie des Charitables de Saint Éloi, 800 ans au service des défunts »
DESCRIPTION:Gratuit et sans réservation
PRIORITY:1
CLASS:PUBLIC
BEGIN:VALARM
TRIGGER:-PT10080M
ACTION:DISPLAY
DESCRIPTION:Reminder
END:VALARM
END:VEVENT
END:VCALENDAR
